BEGIN:VCALENDAR
VERSION:2.0
PRODID:-//67.43.13.10//NONSGML kigkonsult.se iCalcreator 2.26.9//
CALSCALE:GREGORIAN
METHOD:PUBLISH
X-WR-CALNAME:جامعة الكوفة
X-WR-CALDESC:Official Website for the University of Kufa
X-FROM-URL:https://uokufa.edu.iq
X-WR-TIMEZONE:Asia/Baghdad
BEGIN:VTIMEZONE
TZID:Asia/Baghdad
X-LIC-LOCATION:Asia/Baghdad
BEGIN:STANDARD
DTSTART:20071001T040000
TZOFFSETFROM:+0400
TZOFFSETTO:+0300
TZNAME:+03
END:STANDARD
END:VTIMEZONE
BEGIN:VEVENT
UID:ai1ec-7372@uokufa.edu.iq/temp
DTSTAMP:20210828T150254Z
CATEGORIES;LANGUAGE=ar:Course
CONTACT:
DESCRIPTION:
DTSTART;TZID=Asia/Baghdad:20190512T090000
DTEND;TZID=Asia/Baghdad:20190523T090000
LOCATION:Faculty of Law @ University of Kufa
SEQUENCE:0
SUMMARY:Course entitled Disciplinary insurances for a general employee
X-COST-TYPE:free
END:VEVENT
END:VCALENDAR
